BEGIN:VCALENDAR
VERSION:2.0
PRODID:-//Kaiser Permanente NW Events - ECPv6.15.20//NONSGML v1.0//EN
CALSCALE:GREGORIAN
METHOD:PUBLISH
X-WR-CALNAME:Kaiser Permanente NW Events
X-ORIGINAL-URL:https://www.kpnwevents.org
X-WR-CALDESC:Events for Kaiser Permanente NW Events
REFRESH-INTERVAL;VALUE=DURATION:PT1H
X-Robots-Tag:noindex
X-PUBLISHED-TTL:PT1H
BEGIN:VTIMEZONE
TZID:America/Los_Angeles
BEGIN:DAYLIGHT
TZOFFSETFROM:-0800
TZOFFSETTO:-0700
TZNAME:PDT
DTSTART:20160313T100000
END:DAYLIGHT
BEGIN:STANDARD
TZOFFSETFROM:-0700
TZOFFSETTO:-0800
TZNAME:PST
DTSTART:20161106T090000
END:STANDARD
BEGIN:DAYLIGHT
TZOFFSETFROM:-0800
TZOFFSETTO:-0700
TZNAME:PDT
DTSTART:20170312T100000
END:DAYLIGHT
BEGIN:STANDARD
TZOFFSETFROM:-0700
TZOFFSETTO:-0800
TZNAME:PST
DTSTART:20171105T090000
END:STANDARD
BEGIN:DAYLIGHT
TZOFFSETFROM:-0800
TZOFFSETTO:-0700
TZNAME:PDT
DTSTART:20180311T100000
END:DAYLIGHT
BEGIN:STANDARD
TZOFFSETFROM:-0700
TZOFFSETTO:-0800
TZNAME:PST
DTSTART:20181104T090000
END:STANDARD
BEGIN:DAYLIGHT
TZOFFSETFROM:-0800
TZOFFSETTO:-0700
TZNAME:PDT
DTSTART:20190310T100000
END:DAYLIGHT
BEGIN:STANDARD
TZOFFSETFROM:-0700
TZOFFSETTO:-0800
TZNAME:PST
DTSTART:20191103T090000
END:STANDARD
BEGIN:DAYLIGHT
TZOFFSETFROM:-0800
TZOFFSETTO:-0700
TZNAME:PDT
DTSTART:20200308T100000
END:DAYLIGHT
BEGIN:STANDARD
TZOFFSETFROM:-0700
TZOFFSETTO:-0800
TZNAME:PST
DTSTART:20201101T090000
END:STANDARD
BEGIN:DAYLIGHT
TZOFFSETFROM:-0800
TZOFFSETTO:-0700
TZNAME:PDT
DTSTART:20210314T100000
END:DAYLIGHT
BEGIN:STANDARD
TZOFFSETFROM:-0700
TZOFFSETTO:-0800
TZNAME:PST
DTSTART:20211107T090000
END:STANDARD
END:VTIMEZONE
BEGIN:VEVENT
DTSTART;TZID=America/Los_Angeles:20200513T000000
DTEND;TZID=America/Los_Angeles:20200513T020000
DTSTAMP:20260423T113609
CREATED:20200130T042041Z
LAST-MODIFIED:20200408T013332Z
UID:6537-1589328000-1589335200@www.kpnwevents.org
SUMMARY:CANCELED — KAISER PERMANENTE SPEAKER SERIES — UNDERSTANDING MENTAL HEALTH CARE OPTIONS
DESCRIPTION:Mental health has come to the forefront of our collective consciousness in recent years. It’s a reoccurring topic of conversation in the news\, at the dinner table\, and one that is of growing concern with employers. When you consider that 45 million American adults have a mental health condition1 and only 39.8% of adults with mental illness in Oregon State receive any form of treatment\,2 this is a concern that must be addressed. \nJoin us for a breakfast meeting where you’ll learn about Kaiser Permanente’s care services for mental health and what employers can do to support their employees who are struggling with depression\, anxiety\, or other mental or emotional issues. \nBrokers are encouraged to extend an invitation to clients for this discussion. Complimentary breakfast will be served. Free parking will be available. \nSchedule:\n7 – 7:30 a.m.: Registration and breakfast\n7:30 – 8:30 a.m.: Presentation and Q&A\n8:30 – 9 a.m.: Networking \n1The State of Mental Health in America\, Mental Health America\, https://www.mhanational.org/issues/state-mental-health-america\, accessed 1/27/20.\n2>The State of Mental Health in America\, Mental Health America\, https://mhanational.org/issues/mental-health-america-adult-data#six\, accessed 1/27/20.
URL:https://www.kpnwevents.org/event/kaiser-permanente-speaker-series-understanding-mental-health-care-options-pdx/
LOCATION:OMSI – Auditorium\, 1945 SE Water Ave\, Portland\, OR\, 97214\, United States
CATEGORIES:Events
ATTACH;FMTTYPE=image/jpeg:https://www.kpnwevents.org/wp-content/uploads/2020/01/MHW_eventlisting_sm.jpg
END:VEVENT
BEGIN:VEVENT
DTSTART;TZID=America/Los_Angeles:20200422T013000
DTEND;TZID=America/Los_Angeles:20200422T033000
DTSTAMP:20260423T113609
CREATED:20200128T015736Z
LAST-MODIFIED:20200318T054347Z
UID:6524-1587519000-1587526200@www.kpnwevents.org
SUMMARY:CANCELED -- Kaiser Permanente Speaker Series -- Understanding mental health care options
DESCRIPTION:Mental health has come to the forefront of our collective consciousness in recent years. It’s a reoccurring topic of conversation in the news\, at the dinner table\, and one that is of growing concern with employers. When you consider that over 44 million American adults have a mental health condition1 and only 44.4% of adults with mental illness in Washington State receive any form of treatment\,2 this is a concern that must be addressed. \nJoin us for a breakfast meeting where you’ll learn about Kaiser Permanente’s care services for mental health and what employers can do to support their employees who are struggling with depression\, anxiety\, or other mental or emotional issues. \nComplimentary breakfast will be served. Free parking will be available. \nSchedule:\n8:00 – 8:30 a.m.: Registration and breakfast\n8:30 – 9:30 a.m.: Presentation and Q&A\n9:30 – 10:00 a.m.: Networking \n1The State of Mental Health in America\, Mental Health America\, https://www.mhanational.org/issues/state-mental-health-america\, accessed 1/2/20.\nlBehavioral Health Barometer – Washington\, 2015\, Substance Abuse and Mental Health Services Administration\, http://www.samhsa.gov/data/sites/default/files/2015_Washington_BHBarometer.pdf
URL:https://www.kpnwevents.org/event/kaiser-permanente-speaker-series-understanding-mental-health-care-options/
LOCATION:Historic Trust Red Cross Building\, 605 Barnes St.\, Vancouver\, WA\, 98661\, United States
CATEGORIES:Events
ATTACH;FMTTYPE=image/jpeg:https://www.kpnwevents.org/wp-content/uploads/2020/01/MHW_eventlisting_sm.jpg
END:VEVENT
BEGIN:VEVENT
DTSTART;TZID=America/Los_Angeles:20200212T000000
DTEND;TZID=America/Los_Angeles:20200212T020000
DTSTAMP:20260423T113609
CREATED:20191119T021407Z
LAST-MODIFIED:20201027T174911Z
UID:6458-1581465600-1581472800@www.kpnwevents.org
SUMMARY:KAISER PERMANENTE SPEAKER SERIES — CARE AND COVERAGE IN EUGENE AND SPRINGFIELD
DESCRIPTION:More employers are considering Kaiser Permanente’s care and coverage in Eugene and Springfield and we continue to provide convenient care options for members in our community.\n\nWhether you’re familiar with our model or seeking more information about our medical or dental care\, during this meeting\, you’ll learn more about medical and dental care\, see how we partner with community partners for additional care options\, and hear how Kaiser Permanente leverages our pharmacy system to contain and reduce the cost of care.\n\nComplimentary breakfast will be served. Free parking will be available across the street (parking lot on the corner of 3rd and Lawrence).\n\nSchedule:\n8:00 – 8:30 a.m.: Registration and breakfast\n8:30 – 9:30 a.m.: Presentation and Q&A\n9:30 – 10:00 a.m.: Networking
URL:https://www.kpnwevents.org/event/kaiser-permanente-speaker-series-care-and-coverage-in-eugene-and-springfield/
CATEGORIES:Events
ATTACH;FMTTYPE=image/jpeg:https://www.kpnwevents.org/wp-content/uploads/2019/11/speaker-series-cover.jpg
END:VEVENT
BEGIN:VEVENT
DTSTART;TZID=America/Los_Angeles:20190716T010000
DTEND;TZID=America/Los_Angeles:20190716T043000
DTSTAMP:20260423T113609
CREATED:20190501T053141Z
LAST-MODIFIED:20190703T012904Z
UID:6370-1563238800-1563251400@www.kpnwevents.org
SUMMARY:Kaiser Permanente Dental at Keizer Station Open House
DESCRIPTION:Coming soon: more smiling faces in the greater Salem area.\nJoin us on Tuesday\, July 16\, 2019 as we open our newest dental office in the area. \nAbout our new dental office: \nThe new Kaiser Permanente Dental at Keizer Station is designed for the future\, with kiosk check-in available\, a state-of-the-art oral surgery suite\, advanced imaging equipment\, and a new standard for the dental care experience. Our new dental office will feature general and pediatric dentistry\, periodontics\, endodontics\, orthodontics\, and oral surgery. \nLocated right next to the existing Kaiser Permanente Keizer Station Medical Office\, the opening of this new dental office enables us to focus on our members’ total health\, close more care gaps\, deliver more convenient care\, and expand access for members. \nDuring the event\, you’ll get a chance to meet our care team and Kaiser Permanente Dental leaders\, get a tour of the facility\, and celebrate with us as we open our 3rd dental office in Salem — 21st dental office in our service area. \nBreakfast will be provided — please RSVP to help organizers with their event planning.
URL:https://www.kpnwevents.org/event/keizer-station-dental-office-open-house/
ATTACH;FMTTYPE=image/jpeg:https://www.kpnwevents.org/wp-content/uploads/2019/04/keizerstation_opening.jpg
END:VEVENT
BEGIN:VEVENT
DTSTART;TZID=America/Los_Angeles:20190522T013000
DTEND;TZID=America/Los_Angeles:20190522T030000
DTSTAMP:20260423T113609
CREATED:20190323T051807Z
LAST-MODIFIED:20190501T225235Z
UID:6309-1558488600-1558494000@www.kpnwevents.org
SUMMARY:KAISER PERMANENTE SPEAKER SERIES – MAKING HEALTH A BUSINESS STRATEGY
DESCRIPTION:Managing health care costs is critical in today’s competitive environment and keeping employees healthy and happy can lead to greater productivity. Join us as we discuss how employers can make health a part of their business strategy. \nDuring the meeting\, you’ll learn how Kaiser Permanente helps your employees get the convenient care they need when and where they need it\, so they can spend less time in traffic\, and waiting rooms and more time on the job. \nSchedule:\n8:30 – 9:00 a.m.: Registration and coffee + light refreshments\n9:00 – 10:00 a.m.: Presentation and Q&A
URL:https://www.kpnwevents.org/event/making-health-a-part-of-your-business-strategy/
LOCATION:Historic Trust Red Cross Building\, 605 Barnes St.\, Vancouver\, WA\, 98661\, United States
ATTACH;FMTTYPE=image/jpeg:https://www.kpnwevents.org/wp-content/uploads/2017/12/BSS_1_lg.jpg
END:VEVENT
BEGIN:VEVENT
DTSTART;TZID=America/Los_Angeles:20190508T000000
DTEND;TZID=America/Los_Angeles:20190508T020000
DTSTAMP:20260423T113609
CREATED:20190110T002330Z
LAST-MODIFIED:20190201T034326Z
UID:6211-1557273600-1557280800@www.kpnwevents.org
SUMMARY:KAISER PERMANENTE SPEAKER SERIES – EXCELLENT SPECIALTY CARE WHEN YOU NEED IT
DESCRIPTION:You depend on fully engaged employees to meet your business goals. But when employees are faced with a serious health issue\, absenteeism and presenteeism can affect their performance. Kaiser Permanente is getting people back to work faster\, improving health outcomes\, and lowering the need for readmits for serious conditions. When skill\, experience\, and passion matter most\, we bring our best teams together to help turn health around. \nCome hear from our top specialists in cardiology\, oncology\, maternity and other specialties as they give you an insider’s view into how they leverage leading edge technology and groundbreaking research to drive healthy outcomes for our members. \nBreakfast will be served. Free parking. \nSchedule:\n7:00 – 7:30 a.m.: Registration and breakfast\n7:30 – 8:30 a.m.: Presentation and Q&A\n8:30 – 9:00 a.m.: Networking
URL:https://www.kpnwevents.org/event/kaiser-permanente-speaker-series-excellent-specialty-care-when-you-need-it/
LOCATION:OMSI – Auditorium\, 1945 SE Water Ave\, Portland\, OR\, 97214\, United States
CATEGORIES:Events
ATTACH;FMTTYPE=image/jpeg:https://www.kpnwevents.org/wp-content/uploads/2019/01/05_08_2019_sm-700x410.jpg
END:VEVENT
BEGIN:VEVENT
DTSTART;TZID=America/Los_Angeles:20190502T010000
DTEND;TZID=America/Los_Angeles:20190502T030000
DTSTAMP:20260423T113609
CREATED:20190109T234147Z
LAST-MODIFIED:20190110T002309Z
UID:6207-1556758800-1556766000@www.kpnwevents.org
SUMMARY:KAISER PERMANENTE SPEAKER SERIES – MANAGING CHRONIC AND HIGH-COST CONDITIONS
DESCRIPTION:Kaiser Permanente is one of the nation’s largest research organizations outside universities and government. So when we identify better ways to treat illnesses\, our caregivers have access to the latest best practices — our industry-leading approach to care. \nWhether your employees are battling chronic conditions like diabetes\, high blood pressure\, cancer\, or substance abuse\, our doctors leverage the evidence-based best practices that we’ve developed by serving nearly 12 million members — all while working with them to provide care and services that are tailored to their unique needs. \nHear from physicians\, researchers\, and community partners and learn how Kaiser Permanente has a better way to manage care. \nBreakfast will be served. Free parking will available across the street (parking lot on the corner of 3rd and Lawrence) while space lasts. \nSchedule:\n8:00 – 8:30 a.m.: Registration and breakfast\n8:30 – 9:30 a.m.: Presentation and Q&A\n9:30 – 10:00 a.m.: Networking
URL:https://www.kpnwevents.org/event/kaiser-permanente-speaker-series-managing-chronic-and-high-cost-conditions/
CATEGORIES:Events
ATTACH;FMTTYPE=image/jpeg:https://www.kpnwevents.org/wp-content/uploads/2019/01/05_02_2019_sm-700x410.jpg
END:VEVENT
BEGIN:VEVENT
DTSTART;TZID=America/Los_Angeles:20190320T010000
DTEND;TZID=America/Los_Angeles:20190320T030000
DTSTAMP:20260423T113609
CREATED:20190109T233327Z
LAST-MODIFIED:20190312T013433Z
UID:6203-1553043600-1553050800@www.kpnwevents.org
SUMMARY:KAISER PERMANENTE SPEAKER SERIES — A RADICAL IDEA FOR CARE AND COVERAGE IN EUGENE AND SPRINGFIELD
DESCRIPTION:Kaiser Permanente is now serving the Eugene Springfield community with medical and dental care that is more convenient\, affordable\, and coordinated. But what does that mean? What does Kaiser Permanente’s network look like in the local community? Come get an insider’s view into the quality care your employees could get if you choose to offer Kaiser Permanente. Hear directly from some of our talented\, passionate doctors. \nBreakfast will be served. Free parking will available across the street (parking lot on the corner of 3rd and Lawrence) while space lasts. \nSchedule:\n8:00 – 8:30 a.m.: Registration and breakfast\n8:30 – 9:30 a.m.: Presentation and Q&A\n9:30 – 10:00 a.m.: Networking
URL:https://www.kpnwevents.org/event/kaiser-permanente-speaker-series-a-radical-idea-for-care-and-coverage-in-eugene-and-springfield-2/
CATEGORIES:Events
ATTACH;FMTTYPE=image/jpeg:https://www.kpnwevents.org/wp-content/uploads/2018/10/radicalidea_sm-e1539109353456.jpg
END:VEVENT
BEGIN:VEVENT
DTSTART;TZID=America/Los_Angeles:20190306T230000
DTEND;TZID=America/Los_Angeles:20190307T010000
DTSTAMP:20260423T113609
CREATED:20190109T232317Z
LAST-MODIFIED:20190109T235635Z
UID:6199-1551913200-1551920400@www.kpnwevents.org
SUMMARY:KAISER PERMANENTE SPEAKER SERIES — UNDERSTANDING THE SOCIAL DETERMINANTS OF HEALTH
DESCRIPTION:Every community has unique needs\, stories\, and opportunities to advance health and health equity. Learn how we’ve changed our care delivery model to integrate questions that identify the root causes of poor health. We pair this input from our patients with quantitative data and input from community partners to target the social determinants of health — factors like poverty\, violence\, and lack of housing\, and transportation — to deliver patient-centered\, high-quality care. Learn how you can support employees who may be facing one or more of these social determinants of health. \nBreakfast will be served. Free parking. \nSchedule:\n7:00 – 7:30 a.m.: Registration and breakfast\n7:30 – 8:30 a.m.: Presentation and Q&A\n8:30 – 9:00 a.m.: Networking
URL:https://www.kpnwevents.org/event/kaiser-permanente-speaker-series-understanding-the-social-determinants-of-health/
LOCATION:OMSI – Auditorium\, 1945 SE Water Ave\, Portland\, OR\, 97214\, United States
CATEGORIES:Events
ATTACH;FMTTYPE=image/jpeg:https://www.kpnwevents.org/wp-content/uploads/2019/01/03_07_2019_sm-700x410.jpg
END:VEVENT
BEGIN:VEVENT
DTSTART;TZID=America/Los_Angeles:20180530T010000
DTEND;TZID=America/Los_Angeles:20180530T030000
DTSTAMP:20260423T113609
CREATED:20180503T051833Z
LAST-MODIFIED:20180508T050134Z
UID:6124-1527642000-1527649200@www.kpnwevents.org
SUMMARY:2018 Speaker Series: Making health a business strategy
DESCRIPTION:Managing health care costs is critical in today’s competitive environment and keeping employees healthy and happy can lead to greater productivity. Join us as we discuss how employers can make health a part of their business strategy. This event is free to employers and broker partners. Breakfast will be served. Free parking.
URL:https://www.kpnwevents.org/event/making-health-a-business-strategy/
CATEGORIES:Events
ATTACH;FMTTYPE=image/jpeg:https://www.kpnwevents.org/wp-content/uploads/2017/12/BSS_1_lg.jpg
END:VEVENT
BEGIN:VEVENT
DTSTART;TZID=America/Los_Angeles:20180421T030000
DTEND;TZID=America/Los_Angeles:20180421T050000
DTSTAMP:20260423T113609
CREATED:20180404T011114Z
LAST-MODIFIED:20180405T013535Z
UID:6005-1524279600-1524286800@www.kpnwevents.org
SUMMARY:Kaiser Permanente Tanasbourne Medical and Dental Office Member Open House
DESCRIPTION:NOW OPEN: Tanasbourne Medical and Dental Office. \nYou’re invited! Be among the first to experience our newest facility. Join us at our member open house for tours\, refreshments\, and special giveaways\, including a Kaiser Permanente mason salad jar. \nThis new facility provides multiple services under one roof\, with improvements in technology and design to enhance integration and care team collaboration. It’s the first Kaiser Permanente facility in the Northwest to be guided by our vision for the future of health care delivery: person-centered care for body\, mind\, and spirit\, powered by innovation. \nTo learn more about the Tanasbourne Medical and Dental Office\, go to kp.org/DesignedForLife.
URL:https://www.kpnwevents.org/event/kaiser-permanente-tanasbourne-medical-and-dental-office-member-open-house/
LOCATION:Kaiser Permanente Tanasbourne Medical and Dental Office\, 19075 NW Tanasbourne Drive\, Hillsboro\, OR\, 97124\, United States
ATTACH;FMTTYPE=image/jpeg:https://www.kpnwevents.org/wp-content/uploads/2018/01/RSVP-Site-Image.jpg
END:VEVENT
BEGIN:VEVENT
DTSTART;TZID=America/Los_Angeles:20180320T000000
DTEND;TZID=America/Los_Angeles:20180320T020000
DTSTAMP:20260423T113609
CREATED:20171205T013104Z
LAST-MODIFIED:20180223T083019Z
UID:5884-1521504000-1521511200@www.kpnwevents.org
SUMMARY:2018 Speaker Series: The impact of opioids on our members and community
DESCRIPTION:Opioid abuse and dependency are important issues facing our community. Join us for a discussion and learn how Kaiser Permanente’s doctors are combating opioid abuse.
URL:https://www.kpnwevents.org/event/2018-speaker-series-the-impact-of-opioids-on-our-members-and-community/
LOCATION:OMSI – Auditorium\, 1945 SE Water Ave\, Portland\, OR\, 97214\, United States
ATTACH;FMTTYPE=image/jpeg:https://www.kpnwevents.org/wp-content/uploads/2017/12/speakerseries3.jpg
END:VEVENT
BEGIN:VEVENT
DTSTART;TZID=America/Los_Angeles:20180315T090000
DTEND;TZID=America/Los_Angeles:20180315T110000
DTSTAMP:20260423T113609
CREATED:20180124T023137Z
LAST-MODIFIED:20180207T051720Z
UID:5936-1521104400-1521111600@www.kpnwevents.org
SUMMARY:Kaiser Permanente Tanasbourne Medical and Dental Office Ribbon Cutting
DESCRIPTION:Wellness has a new address. \nThis new facility provides multiple services under one roof\, with improvements in technology and design to enhance integration and care team collaboration. It’s the first Kaiser Permanente facility in the Northwest to be guided by our vision for the future of health care delivery: person-centered care for body\, mind\, and spirit\, powered by innovation. \nPlease join us for the grand opening of our Tanasbourne Medical and Dental Office.
URL:https://www.kpnwevents.org/event/kaiser-permanente-tanasbourne-medical-and-dental-office-ribbon-cutting/
LOCATION:Kaiser Permanente Tanasbourne Medical and Dental Office\, 19075 NW Tanasbourne Drive\, Hillsboro\, OR\, 97124\, United States
ATTACH;FMTTYPE=image/jpeg:https://www.kpnwevents.org/wp-content/uploads/2018/01/RSVP-Site-Image.jpg
END:VEVENT
BEGIN:VEVENT
DTSTART;TZID=America/Los_Angeles:20180219T230000
DTEND;TZID=America/Los_Angeles:20180220T010000
DTSTAMP:20260423T113609
CREATED:20171205T012739Z
LAST-MODIFIED:20180216T073222Z
UID:5881-1519081200-1519088400@www.kpnwevents.org
SUMMARY:2018 Speaker Series: Our top doctors and their approach to specialty care
DESCRIPTION:Join us for an exciting event and learn how Kaiser Permanente fully integrates specialty care and primary care that results in high-quality care for our members. \nSpeakers: \n\nDr. Walleed Lutfi Lutfiyya\, Colon and Rectal Surgeon\nDr. Norma Steiner\, Gynecologic Oncologist\nDr. Pavlos Papavasiliou\, Surgical Oncologist\nDr. Timothy Jacobson\, Cardiologist\n\nEvent Agenda: \n\n7 – 7:30 a.m. —  Breakfast and networking\n7:30 – 8:15 a.m. — Presentation\n8:15 – 8:30 — Q&A
URL:https://www.kpnwevents.org/event/2018-speaker-series-our-top-doctors-and-their-approach-to-specialty-care/
LOCATION:OMSI – Auditorium\, 1945 SE Water Ave\, Portland\, OR\, 97214\, United States
CATEGORIES:Events
ATTACH;FMTTYPE=image/jpeg:https://www.kpnwevents.org/wp-content/uploads/2017/12/speakerseries_topdocs_email1.jpg
END:VEVENT
BEGIN:VEVENT
DTSTART;TZID=America/Los_Angeles:20180115T230000
DTEND;TZID=America/Los_Angeles:20180116T010000
DTSTAMP:20260423T113609
CREATED:20171205T011307Z
LAST-MODIFIED:20171205T011307Z
UID:5872-1516057200-1516064400@www.kpnwevents.org
SUMMARY:2018 Speaker Series: Making health a business strategy
DESCRIPTION:Managing health care costs is critical in today’s competitive environment and keeping employees healthy and happy can lead to greater productivity. Join us as we discuss how employers can make health a part of their business strategy.
URL:https://www.kpnwevents.org/event/2018-speaker-series-making-health-a-business-strategy/
LOCATION:OMSI – Auditorium\, 1945 SE Water Ave\, Portland\, OR\, 97214\, United States
CATEGORIES:Events
ATTACH;FMTTYPE=image/jpeg:https://www.kpnwevents.org/wp-content/uploads/2017/12/BSS_1_lg.jpg
END:VEVENT
BEGIN:VEVENT
DTSTART;TZID=America/Los_Angeles:20170623T043000
DTEND;TZID=America/Los_Angeles:20170623T053000
DTSTAMP:20260423T113609
CREATED:20170607T042251Z
LAST-MODIFIED:20170607T220852Z
UID:5731-1498192200-1498195800@www.kpnwevents.org
SUMMARY:Beaverton Medical & Dental Office Opening
DESCRIPTION:Please join us for a groundbreaking ceremony and reception celebrating nearly 50 years in Beaverton\, improving the health of our members and the community. The new Kaiser Permanente Beaverton Medical and Dental Office is one of the first in the Northwest to realize our vision for the future: person-centered care for mind\, body\, and spirit\, powered by innovation. \n  \nProgram: \n11:30 am Ceremony \n12:00 pm Networking reception and refreshments \n  \nRSVP by June 20\, 2017
URL:https://www.kpnwevents.org/event/beaverton-medical-dental-office-opening/
LOCATION:Kaiser Permanente Medical and Dental Office\, Beaverton\, 4855 SW Western Avenue\, Beaverton\, OR\, 97005\, United States
CATEGORIES:Events
END:VEVENT
BEGIN:VEVENT
DTSTART;TZID=America/Los_Angeles:20170119T080000
DTEND;TZID=America/Los_Angeles:20170323T110000
DTSTAMP:20260423T113609
CREATED:20170323T030903Z
LAST-MODIFIED:20170323T030903Z
UID:5688-1484812800-1490266800@www.kpnwevents.org
SUMMARY:Cedar Hills Office Grand Opening (TEST)
DESCRIPTION:Join us in celebrating the grand opening of the Cedar Hills Dental and Medical Office with a ribbon-cutting ceremony and open house with healthy refreshments\, gifts\, and more.
URL:https://www.kpnwevents.org/event/cedar-hills-office-grand-opening-test/
LOCATION:Cedar Hills Dental and Medical Office\, 12450 SW Walker Rd.\, Beaverton\, OR\, 97005\, United States
ATTACH;FMTTYPE=image/jpeg:https://www.kpnwevents.org/wp-content/uploads/2016/12/interior-rendering-1-1.jpg
END:VEVENT
BEGIN:VEVENT
DTSTART;TZID=America/Los_Angeles:20170119T080000
DTEND;TZID=America/Los_Angeles:20170119T100000
DTSTAMP:20260423T113609
CREATED:20161202T033751Z
LAST-MODIFIED:20161213T070016Z
UID:5483-1484812800-1484820000@www.kpnwevents.org
SUMMARY:Cedar Hills Office Grand Opening
DESCRIPTION:Join us in celebrating the grand opening of the Cedar Hills Dental and Medical Office with a ribbon-cutting ceremony and open house with healthy refreshments\, gifts\, and more.
URL:https://www.kpnwevents.org/event/cedar-hills-office-grand-opening/
LOCATION:Cedar Hills Dental and Medical Office\, 12450 SW Walker Rd.\, Beaverton\, OR\, 97005\, United States
ATTACH;FMTTYPE=image/jpeg:https://www.kpnwevents.org/wp-content/uploads/2016/12/interior-rendering-1-1.jpg
END:VEVENT
END:VCALENDAR